BEGIN:VCALENDAR
VERSION:2.0
PRODID:icalendar-ruby
CALSCALE:GREGORIAN
METHOD:PUBLISH
BEGIN:VEVENT
DTSTAMP:20260425T002409Z
UID:5-397277@mydestination.cc
DTSTART:20260920T140000Z
DTEND:20260920T150000Z
CLASS:PUBLIC
CREATED:20260424T194019
DESCRIPTION:Sunday Worship
LAST-MODIFIED:20260424T194019
LOCATION:
SUMMARY:Sunday Worship
URL;VALUE=URI:https://www.mydestination.cc/events/sunday-worship/2026-09-20
END:VEVENT
END:VCALENDAR
