BEGIN:VCALENDAR
VERSION:2.0
PRODID:icalendar-ruby
CALSCALE:GREGORIAN
METHOD:PUBLISH
BEGIN:VEVENT
DTSTAMP:20260420T110140Z
UID:57-380867@mydestination.cc
DTSTART:20261128T113000Z
DTEND:20261129T000000Z
CLASS:PUBLIC
CREATED:20260414T130753
DESCRIPTION:Take an adventure with us as we hop on a bus to go to Sight and
  Sound to see Joshua. We will be meeting at the church at 6:30am. The show
  starts at 11am and after we will eat at Golden Corral. We will return bac
 k to the church at 7PM. The ticket includes your transportation\, ticket t
 o the show\, your meal &amp\; tip. Bring additional money If you want to p
 urchase anything at sight and sound. Adults ticket is $160 and children 12
  yrs old and under are $110. Act fast there are only 54 seats.\n\n\nCancel
 lation Policy\nIf you are doing a playment plan\, the first payment ($54 A
 dult\, $38 Child) is non-refundable to cover the cost of transportation.\n
 Option to make payment is available until August 1st 2026 after August 1\,
  2026 the payment payment plan will no longer be availale and will pay in 
 full ($160/$110) at time of booking your ticket.\nIn the event you are una
 ble to attend\, after fully paying for the ticket there are no refunds. Yo
 u will need to sell or gift your ticket to someone else. (This will be you
 r responsibility to take care of and communicate this with the front offic
 e)\n
LAST-MODIFIED:20260414T130753
LOCATION:437 Border Road Kearneysville\, WV 25430
SUMMARY:Joshua Sight & Sound Bus Trip
URL;VALUE=URI:https://www.mydestination.cc/events/joshua-sight-sound-bus-tr
 ip/2026-11-28
ATTACH;FILENAME=BUS-TRIP.jpg;FMTTYPE=image/jpeg:https://dq5pwpg1q8ru0.cloud
 front.net/2026/04/14/17/07/02/e896f86f-0aac-4462-8062-681272d9b488/BUS-TRI
 P.jpg
END:VEVENT
END:VCALENDAR
